BEGIN:VCALENDAR
VERSION:2.0
PRODID:-//E. A. Gamor | Ecosystem Builder - ECPv6.15.20//NONSGML v1.0//EN
CALSCALE:GREGORIAN
METHOD:PUBLISH
X-WR-CALNAME:E. A. Gamor | Ecosystem Builder
X-ORIGINAL-URL:https://thenewghanaian.com
X-WR-CALDESC:Events for E. A. Gamor | Ecosystem Builder
REFRESH-INTERVAL;VALUE=DURATION:PT1H
X-Robots-Tag:noindex
X-PUBLISHED-TTL:PT1H
BEGIN:VTIMEZONE
TZID:UTC
BEGIN:STANDARD
TZOFFSETFROM:+0000
TZOFFSETTO:+0000
TZNAME:UTC
DTSTART:20170101T000000
END:STANDARD
END:VTIMEZONE
BEGIN:VEVENT
DTSTART;TZID=UTC:20180101T133000
DTEND;TZID=UTC:20301201T173000
DTSTAMP:20260423T045832
CREATED:20160819T174743Z
LAST-MODIFIED:20250612T115929Z
UID:2233-1514813400-1922376600@thenewghanaian.com
SUMMARY:UNFPA SWOT Report Launch 🚀
DESCRIPTION:UNFPA SWOT Report Launch – UNFPA 50th Anniversary\, the United Nations Population Fund hosted a youth-led launch. Subsequently\, the State of the World’s Population report published in 2019.\nOur mission is that every pregnancy is wanted. As a result\, every childbirth is safe. Finally\, every young person’s is fulfilled. Reproductive health care for women and youth in more than 150 countries – which are home to more than 80 per cent of the world’s population. Prevention of gender-based violence\, which affects 1 in 3 women. Moreover\, the health of pregnant women\, especially the 1 million who face life-threatening complications each month. We also support reliable access to modern contraceptives sufficient to benefit 20 million women a year \nAs a result of this information\, UNFPA improves the health impact on pregnancy and child mortality rates.  As well as our continents’ population growth and\, most importantly\, Africa’s youth in local\, pan-African and global context.  Finally UNFPA GHANA plays a big role in youth capacity building. #ICPDA25 🔬#EcosystemBuilding #YouthSWOP19 #UNFPA50 #Youth #Potential UNFPA SWOT Report Launch \n \nUNFPA commits to strengthening health systems for the provision of safe and quality maternity care. Secondly\, mothers and their babies are beneficiaries during this pandemic. \n#UNFPA 50th Anniversary\, the United Nations Population Fund \n\nIn addition\, Emmanuel Gamor is a consummate professional with over a decade experience in youth engagement; digital and managerial innovation; entrepreneurship and leadership education. \nAs a result of his passion for education\, he is a faculty member with the University of Stellenbosch – Executive Education on digital reputation management. He runs a podcast “Unpacking Africa” that interviews and explores multi-stakeholders in multiple industries across the continent. \n 
URL:https://thenewghanaian.com/event/unfpaswotreportlaunch/
LOCATION:Ecobank HQ\, United States
CATEGORIES:Africa,Expo
ATTACH;FMTTYPE=image/gif:https://thenewghanaian.com/wp-content/uploads/2016/08/UNFPAGamor.gif
END:VEVENT
END:VCALENDAR